BEGIN:VCALENDAR
VERSION:2.0
PRODID:-//https://ONtrail - ECPv6.15.20//NONSGML v1.0//EN
CALSCALE:GREGORIAN
METHOD:PUBLISH
X-WR-CALNAME:https://ONtrail
X-ORIGINAL-URL:https://ontrail.ca
X-WR-CALDESC:Events for https://ONtrail
REFRESH-INTERVAL;VALUE=DURATION:PT1H
X-Robots-Tag:noindex
X-PUBLISHED-TTL:PT1H
BEGIN:VTIMEZONE
TZID:America/Toronto
BEGIN:DAYLIGHT
TZOFFSETFROM:-0500
TZOFFSETTO:-0400
TZNAME:EDT
DTSTART:20240310T070000
END:DAYLIGHT
BEGIN:STANDARD
TZOFFSETFROM:-0400
TZOFFSETTO:-0500
TZNAME:EST
DTSTART:20241103T060000
END:STANDARD
BEGIN:DAYLIGHT
TZOFFSETFROM:-0500
TZOFFSETTO:-0400
TZNAME:EDT
DTSTART:20250309T070000
END:DAYLIGHT
BEGIN:STANDARD
TZOFFSETFROM:-0400
TZOFFSETTO:-0500
TZNAME:EST
DTSTART:20251102T060000
END:STANDARD
BEGIN:DAYLIGHT
TZOFFSETFROM:-0500
TZOFFSETTO:-0400
TZNAME:EDT
DTSTART:20260308T070000
END:DAYLIGHT
BEGIN:STANDARD
TZOFFSETFROM:-0400
TZOFFSETTO:-0500
TZNAME:EST
DTSTART:20261101T060000
END:STANDARD
END:VTIMEZONE
BEGIN:VEVENT
DTSTART;VALUE=DATE:20250427
DTEND;VALUE=DATE:20250428
DTSTAMP:20260419T145122
CREATED:20250427T040132Z
LAST-MODIFIED:20260412T165725Z
UID:10000035-1745712000-1745798399@ontrail.ca
SUMMARY:Turkey Point Spring Kicker
DESCRIPTION:Canada Cup/Ontario Cup Cross Country & Short Track				\n				\n					\n		\n					\n		\n				\n						\n					\n			\n						\n				\n									The Ontario Cup MTB Racing series is one of the province’s premier mountain biking competitions\, attracting riders of all levels to compete in exciting\, adrenaline-pumping events. Held annually at various stunning locations across Ontario\, this series features intense cross-country (XC) races\, technical courses\, and scenic trails that challenge even the most experienced riders. Participants battle it out for top positions\, earning points and recognition in the Ontario cycling community. Whether you’re a beginner or an elite athlete\, the Ontario Cup provides a great platform to showcase skills\, build fitness\, and experience the thrill of competitive mountain biking. Join the action and be part of Ontario’s cycling legacy. 								\n				\n					\n		\n				\n			\n						\n				\n																														\n				\n				\n				\n							\n			\n		\n						\n				\n				\n				\n							\n			\n		\n						\n				\n					\n		\n					\n		\n				\n						\n					\n			\n						\n				\n					\n	\n	Date & Time:	\n			May 17\, 2025\n\n		\n\n\n	\n				\n				\n				\n				\n							\n			\n		\n						\n				\n				\n				\n					\n	\n	Website:	\n	https://woodyraceseries.mailchimpsites.com/\n\n				\n				\n				\n				\n							\n			\n		\n						\n				\n				\n				\n					\n	\n		\n\n	\n	Add to calendar	\n		\n	\n\n		\n			\n									\n	Google Calendar\n\n									\n	iCalendar\n\n									\n	Outlook 365\n\n									\n	Outlook Live\n\n							\n		\n\n		\n	\n\n				\n				\n					\n		\n				\n			\n							\n		\n				\n			\n							\n		\n					\n		\n				\n						\n					\n			\n						\n				\n					\n	\n	Venue			\n				\n	\n			\n		Hardwood Ski and Bike			\n	\n	\n	Address:\n	\n\n402 Old Barrie Rd W\n	\n		\n		Oro Station\,\n\n	ON\n\n	L0L 2E0\n\n	Canada\n\n\n\n\n	+ Google Map
URL:https://ontrail.ca/event/turkey-point-spring-kicker/
LOCATION:1730 Front Rd\, 1730 Front Rd\, St Williams\, ON\, N0E 1P0\, Canada
CATEGORIES:Community,Community Event,Group Ride,Mountainbike,Spring Kicker,Turkey Poiint,Women's Ride
ATTACH;FMTTYPE=image/jpeg:https://ontrail.ca/wp-content/uploads/2025/04/Turkey-Point-1-scaled.jpeg
END:VEVENT
BEGIN:VEVENT
DTSTART;VALUE=DATE:20250427
DTEND;VALUE=DATE:20250428
DTSTAMP:20260419T145122
CREATED:20250427T035311Z
LAST-MODIFIED:20250428T070035Z
UID:10000034-1745712000-1745798399@ontrail.ca
SUMMARY:RADCO Jump Clinic
DESCRIPTION:Canada Cup/Ontario Cup Cross Country & Short Track				\n				\n					\n		\n					\n		\n				\n						\n					\n			\n						\n				\n									The Ontario Cup MTB Racing series is one of the province’s premier mountain biking competitions\, attracting riders of all levels to compete in exciting\, adrenaline-pumping events. Held annually at various stunning locations across Ontario\, this series features intense cross-country (XC) races\, technical courses\, and scenic trails that challenge even the most experienced riders. Participants battle it out for top positions\, earning points and recognition in the Ontario cycling community. Whether you’re a beginner or an elite athlete\, the Ontario Cup provides a great platform to showcase skills\, build fitness\, and experience the thrill of competitive mountain biking. Join the action and be part of Ontario’s cycling legacy. 								\n				\n					\n		\n				\n			\n						\n				\n																														\n				\n				\n				\n							\n			\n		\n						\n				\n				\n				\n							\n			\n		\n						\n				\n					\n		\n					\n		\n				\n						\n					\n			\n						\n				\n					\n	\n	Date & Time:	\n			May 17\, 2025\n\n		\n\n\n	\n				\n				\n				\n				\n							\n			\n		\n						\n				\n				\n				\n					\n	\n	Website:	\n	https://woodyraceseries.mailchimpsites.com/\n\n				\n				\n				\n				\n							\n			\n		\n						\n				\n				\n				\n					\n	\n		\n\n	\n	Add to calendar	\n		\n	\n\n		\n			\n									\n	Google Calendar\n\n									\n	iCalendar\n\n									\n	Outlook 365\n\n									\n	Outlook Live\n\n							\n		\n\n		\n	\n\n				\n				\n					\n		\n				\n			\n							\n		\n				\n			\n							\n		\n					\n		\n				\n						\n					\n			\n						\n				\n					\n	\n	Venue			\n				\n	\n			\n		Hardwood Ski and Bike			\n	\n	\n	Address:\n	\n\n402 Old Barrie Rd W\n	\n		\n		Oro Station\,\n\n	ON\n\n	L0L 2E0\n\n	Canada\n\n\n\n\n	+ Google Map
URL:https://ontrail.ca/event/radco-jump-clinic/
LOCATION:Woodnewton\, 4589 Concession 6\, Uxbridge\, ON\, L9P 1R4\, Canada
CATEGORIES:Skill building
ATTACH;FMTTYPE=image/png:https://ontrail.ca/wp-content/uploads/2025/04/RADco-Jump-clinic.png
END:VEVENT
BEGIN:VEVENT
DTSTART;VALUE=DATE:20250427
DTEND;VALUE=DATE:20250428
DTSTAMP:20260419T145122
CREATED:20250426T061622Z
LAST-MODIFIED:20250428T070107Z
UID:10000031-1745712000-1745798399@ontrail.ca
SUMMARY:Minii Adventures: MTB Skills Clinics
DESCRIPTION:Canada Cup/Ontario Cup Cross Country & Short Track				\n				\n					\n		\n					\n		\n				\n						\n					\n			\n						\n				\n									The Ontario Cup MTB Racing series is one of the province’s premier mountain biking competitions\, attracting riders of all levels to compete in exciting\, adrenaline-pumping events. Held annually at various stunning locations across Ontario\, this series features intense cross-country (XC) races\, technical courses\, and scenic trails that challenge even the most experienced riders. Participants battle it out for top positions\, earning points and recognition in the Ontario cycling community. Whether you’re a beginner or an elite athlete\, the Ontario Cup provides a great platform to showcase skills\, build fitness\, and experience the thrill of competitive mountain biking. Join the action and be part of Ontario’s cycling legacy. 								\n				\n					\n		\n				\n			\n						\n				\n																														\n				\n				\n				\n							\n			\n		\n						\n				\n				\n				\n							\n			\n		\n						\n				\n					\n		\n					\n		\n				\n						\n					\n			\n						\n				\n					\n	\n	Date & Time:	\n			May 17\, 2025\n\n		\n\n\n	\n				\n				\n				\n				\n							\n			\n		\n						\n				\n				\n				\n					\n	\n	Website:	\n	https://woodyraceseries.mailchimpsites.com/\n\n				\n				\n				\n				\n							\n			\n		\n						\n				\n				\n				\n					\n	\n		\n\n	\n	Add to calendar	\n		\n	\n\n		\n			\n									\n	Google Calendar\n\n									\n	iCalendar\n\n									\n	Outlook 365\n\n									\n	Outlook Live\n\n							\n		\n\n		\n	\n\n				\n				\n					\n		\n				\n			\n							\n		\n				\n			\n							\n		\n					\n		\n				\n						\n					\n			\n						\n				\n					\n	\n	Venue			\n				\n	\n			\n		Hardwood Ski and Bike			\n	\n	\n	Address:\n	\n\n402 Old Barrie Rd W\n	\n		\n		Oro Station\,\n\n	ON\n\n	L0L 2E0\n\n	Canada\n\n\n\n\n	+ Google Map
URL:https://ontrail.ca/event/minii-adventures-mtb-skills-clinics-2/
LOCATION:Trail Hub\, 722 Chalk Lake Rd\, Uxbridge\, Ontario\, L9P 1R4\, Canada
CATEGORIES:Mountainbike
ATTACH;FMTTYPE=image/jpeg:https://ontrail.ca/wp-content/uploads/2025/04/Minii-Adventures-image.jpeg
END:VEVENT
BEGIN:VEVENT
DTSTART;VALUE=DATE:20250427
DTEND;VALUE=DATE:20250428
DTSTAMP:20260419T145122
CREATED:20250421T173651Z
LAST-MODIFIED:20250421T174646Z
UID:10000027-1745712000-1745798399@ontrail.ca
SUMMARY:Minii Adventures MTB Skills Clinic
DESCRIPTION:Canada Cup/Ontario Cup Cross Country & Short Track				\n				\n					\n		\n					\n		\n				\n						\n					\n			\n						\n				\n									The Ontario Cup MTB Racing series is one of the province’s premier mountain biking competitions\, attracting riders of all levels to compete in exciting\, adrenaline-pumping events. Held annually at various stunning locations across Ontario\, this series features intense cross-country (XC) races\, technical courses\, and scenic trails that challenge even the most experienced riders. Participants battle it out for top positions\, earning points and recognition in the Ontario cycling community. Whether you’re a beginner or an elite athlete\, the Ontario Cup provides a great platform to showcase skills\, build fitness\, and experience the thrill of competitive mountain biking. Join the action and be part of Ontario’s cycling legacy. 								\n				\n					\n		\n				\n			\n						\n				\n																														\n				\n				\n				\n							\n			\n		\n						\n				\n				\n				\n							\n			\n		\n						\n				\n					\n		\n					\n		\n				\n						\n					\n			\n						\n				\n					\n	\n	Date & Time:	\n			May 17\, 2025\n\n		\n\n\n	\n				\n				\n				\n				\n							\n			\n		\n						\n				\n				\n				\n					\n	\n	Website:	\n	https://woodyraceseries.mailchimpsites.com/\n\n				\n				\n				\n				\n							\n			\n		\n						\n				\n				\n				\n					\n	\n		\n\n	\n	Add to calendar	\n		\n	\n\n		\n			\n									\n	Google Calendar\n\n									\n	iCalendar\n\n									\n	Outlook 365\n\n									\n	Outlook Live\n\n							\n		\n\n		\n	\n\n				\n				\n					\n		\n				\n			\n							\n		\n				\n			\n							\n		\n					\n		\n				\n						\n					\n			\n						\n				\n					\n	\n	Venue			\n				\n	\n			\n		Hardwood Ski and Bike			\n	\n	\n	Address:\n	\n\n402 Old Barrie Rd W\n	\n		\n		Oro Station\,\n\n	ON\n\n	L0L 2E0\n\n	Canada\n\n\n\n\n	+ Google Map
URL:https://ontrail.ca/event/minii-adventures-mtb-skills-clinic/
LOCATION:Trail Hub\, 722 Chalk Lake Rd\, Uxbridge\, Ontario\, L9P 1R4\, Canada
CATEGORIES:Mountainbike
ATTACH;FMTTYPE=image/png:https://ontrail.ca/wp-content/uploads/2025/04/Minii-Adventures-Logo-scaled.png
END:VEVENT
BEGIN:VEVENT
DTSTART;VALUE=DATE:20250426
DTEND;VALUE=DATE:20250428
DTSTAMP:20260419T145122
CREATED:20250427T034414Z
LAST-MODIFIED:20250428T070602Z
UID:10000033-1745625600-1745798399@ontrail.ca
SUMMARY:Stoked Intro to MTB
DESCRIPTION:Canada Cup/Ontario Cup Cross Country & Short Track				\n				\n					\n		\n					\n		\n				\n						\n					\n			\n						\n				\n									The Ontario Cup MTB Racing series is one of the province’s premier mountain biking competitions\, attracting riders of all levels to compete in exciting\, adrenaline-pumping events. Held annually at various stunning locations across Ontario\, this series features intense cross-country (XC) races\, technical courses\, and scenic trails that challenge even the most experienced riders. Participants battle it out for top positions\, earning points and recognition in the Ontario cycling community. Whether you’re a beginner or an elite athlete\, the Ontario Cup provides a great platform to showcase skills\, build fitness\, and experience the thrill of competitive mountain biking. Join the action and be part of Ontario’s cycling legacy. 								\n				\n					\n		\n				\n			\n						\n				\n																														\n				\n				\n				\n							\n			\n		\n						\n				\n				\n				\n							\n			\n		\n						\n				\n					\n		\n					\n		\n				\n						\n					\n			\n						\n				\n					\n	\n	Date & Time:	\n			May 17\, 2025\n\n		\n\n\n	\n				\n				\n				\n				\n							\n			\n		\n						\n				\n				\n				\n					\n	\n	Website:	\n	https://woodyraceseries.mailchimpsites.com/\n\n				\n				\n				\n				\n							\n			\n		\n						\n				\n				\n				\n					\n	\n		\n\n	\n	Add to calendar	\n		\n	\n\n		\n			\n									\n	Google Calendar\n\n									\n	iCalendar\n\n									\n	Outlook 365\n\n									\n	Outlook Live\n\n							\n		\n\n		\n	\n\n				\n				\n					\n		\n				\n			\n							\n		\n				\n			\n							\n		\n					\n		\n				\n						\n					\n			\n						\n				\n					\n	\n	Venue			\n				\n	\n			\n		Hardwood Ski and Bike			\n	\n	\n	Address:\n	\n\n402 Old Barrie Rd W\n	\n		\n		Oro Station\,\n\n	ON\n\n	L0L 2E0\n\n	Canada\n\n\n\n\n	+ Google Map
URL:https://ontrail.ca/event/stoked-intro-to-mtb/
LOCATION:Christie Lake Conservation Area\, 1000 ON-5\, Dundas\, ON\, L9H 5E1\, Canada
CATEGORIES:Skill building
ATTACH;FMTTYPE=image/jpeg:https://ontrail.ca/wp-content/uploads/2025/04/stoked-pic.jpg
END:VEVENT
BEGIN:VEVENT
DTSTART;VALUE=DATE:20250426
DTEND;VALUE=DATE:20250427
DTSTAMP:20260419T145122
CREATED:20250426T034932Z
LAST-MODIFIED:20250428T070732Z
UID:10000030-1745625600-1745711999@ontrail.ca
SUMMARY:Minii Adventures: MTB Skills Clinics
DESCRIPTION:Canada Cup/Ontario Cup Cross Country & Short Track				\n				\n					\n		\n					\n		\n				\n						\n					\n			\n						\n				\n									The Ontario Cup MTB Racing series is one of the province’s premier mountain biking competitions\, attracting riders of all levels to compete in exciting\, adrenaline-pumping events. Held annually at various stunning locations across Ontario\, this series features intense cross-country (XC) races\, technical courses\, and scenic trails that challenge even the most experienced riders. Participants battle it out for top positions\, earning points and recognition in the Ontario cycling community. Whether you’re a beginner or an elite athlete\, the Ontario Cup provides a great platform to showcase skills\, build fitness\, and experience the thrill of competitive mountain biking. Join the action and be part of Ontario’s cycling legacy. 								\n				\n					\n		\n				\n			\n						\n				\n																														\n				\n				\n				\n							\n			\n		\n						\n				\n				\n				\n							\n			\n		\n						\n				\n					\n		\n					\n		\n				\n						\n					\n			\n						\n				\n					\n	\n	Date & Time:	\n			May 17\, 2025\n\n		\n\n\n	\n				\n				\n				\n				\n							\n			\n		\n						\n				\n				\n				\n					\n	\n	Website:	\n	https://woodyraceseries.mailchimpsites.com/\n\n				\n				\n				\n				\n							\n			\n		\n						\n				\n				\n				\n					\n	\n		\n\n	\n	Add to calendar	\n		\n	\n\n		\n			\n									\n	Google Calendar\n\n									\n	iCalendar\n\n									\n	Outlook 365\n\n									\n	Outlook Live\n\n							\n		\n\n		\n	\n\n				\n				\n					\n		\n				\n			\n							\n		\n				\n			\n							\n		\n					\n		\n				\n						\n					\n			\n						\n				\n					\n	\n	Venue			\n				\n	\n			\n		Hardwood Ski and Bike			\n	\n	\n	Address:\n	\n\n402 Old Barrie Rd W\n	\n		\n		Oro Station\,\n\n	ON\n\n	L0L 2E0\n\n	Canada\n\n\n\n\n	+ Google Map
URL:https://ontrail.ca/event/minii-adventures-mtb-skills-clinics/
LOCATION:Trail Hub\, 722 Chalk Lake Rd\, Uxbridge\, Ontario\, L9P 1R4\, Canada
CATEGORIES:Mountainbike
ATTACH;FMTTYPE=image/jpeg:https://ontrail.ca/wp-content/uploads/2025/04/Minii-Adventures-image.jpeg
END:VEVENT
BEGIN:VEVENT
DTSTART;VALUE=DATE:20250426
DTEND;VALUE=DATE:20250427
DTSTAMP:20260419T145122
CREATED:20250421T171348Z
LAST-MODIFIED:20250421T173442Z
UID:10000026-1745625600-1745711999@ontrail.ca
SUMMARY:Minii Adventures MTB Skills Clinic
DESCRIPTION:Canada Cup/Ontario Cup Cross Country & Short Track				\n				\n					\n		\n					\n		\n				\n						\n					\n			\n						\n				\n									The Ontario Cup MTB Racing series is one of the province’s premier mountain biking competitions\, attracting riders of all levels to compete in exciting\, adrenaline-pumping events. Held annually at various stunning locations across Ontario\, this series features intense cross-country (XC) races\, technical courses\, and scenic trails that challenge even the most experienced riders. Participants battle it out for top positions\, earning points and recognition in the Ontario cycling community. Whether you’re a beginner or an elite athlete\, the Ontario Cup provides a great platform to showcase skills\, build fitness\, and experience the thrill of competitive mountain biking. Join the action and be part of Ontario’s cycling legacy. 								\n				\n					\n		\n				\n			\n						\n				\n																														\n				\n				\n				\n							\n			\n		\n						\n				\n				\n				\n							\n			\n		\n						\n				\n					\n		\n					\n		\n				\n						\n					\n			\n						\n				\n					\n	\n	Date & Time:	\n			May 17\, 2025\n\n		\n\n\n	\n				\n				\n				\n				\n							\n			\n		\n						\n				\n				\n				\n					\n	\n	Website:	\n	https://woodyraceseries.mailchimpsites.com/\n\n				\n				\n				\n				\n							\n			\n		\n						\n				\n				\n				\n					\n	\n		\n\n	\n	Add to calendar	\n		\n	\n\n		\n			\n									\n	Google Calendar\n\n									\n	iCalendar\n\n									\n	Outlook 365\n\n									\n	Outlook Live\n\n							\n		\n\n		\n	\n\n				\n				\n					\n		\n				\n			\n							\n		\n				\n			\n							\n		\n					\n		\n				\n						\n					\n			\n						\n				\n					\n	\n	Venue			\n				\n	\n			\n		Hardwood Ski and Bike			\n	\n	\n	Address:\n	\n\n402 Old Barrie Rd W\n	\n		\n		Oro Station\,\n\n	ON\n\n	L0L 2E0\n\n	Canada\n\n\n\n\n	+ Google Map
URL:https://ontrail.ca/event/minii-adventures-mtb-skills/
LOCATION:Trail Hub\, 722 Chalk Lake Rd\, Uxbridge\, Ontario\, L9P 1R4\, Canada
CATEGORIES:Mountainbike
ATTACH;FMTTYPE=image/png:https://ontrail.ca/wp-content/uploads/2025/04/Minii-Adventures-Logo-scaled.png
END:VEVENT
BEGIN:VEVENT
DTSTART;VALUE=DATE:20250423
DTEND;VALUE=DATE:20250424
DTSTAMP:20260419T145122
CREATED:20250426T062251Z
LAST-MODIFIED:20250428T070809Z
UID:10000032-1745366400-1745452799@ontrail.ca
SUMMARY:Woody Race Series
DESCRIPTION:Canada Cup/Ontario Cup Cross Country & Short Track				\n				\n					\n		\n					\n		\n				\n						\n					\n			\n						\n				\n									The Ontario Cup MTB Racing series is one of the province’s premier mountain biking competitions\, attracting riders of all levels to compete in exciting\, adrenaline-pumping events. Held annually at various stunning locations across Ontario\, this series features intense cross-country (XC) races\, technical courses\, and scenic trails that challenge even the most experienced riders. Participants battle it out for top positions\, earning points and recognition in the Ontario cycling community. Whether you’re a beginner or an elite athlete\, the Ontario Cup provides a great platform to showcase skills\, build fitness\, and experience the thrill of competitive mountain biking. Join the action and be part of Ontario’s cycling legacy. 								\n				\n					\n		\n				\n			\n						\n				\n																														\n				\n				\n				\n							\n			\n		\n						\n				\n				\n				\n							\n			\n		\n						\n				\n					\n		\n					\n		\n				\n						\n					\n			\n						\n				\n					\n	\n	Date & Time:	\n			May 17\, 2025\n\n		\n\n\n	\n				\n				\n				\n				\n							\n			\n		\n						\n				\n				\n				\n					\n	\n	Website:	\n	https://woodyraceseries.mailchimpsites.com/\n\n				\n				\n				\n				\n							\n			\n		\n						\n				\n				\n				\n					\n	\n		\n\n	\n	Add to calendar	\n		\n	\n\n		\n			\n									\n	Google Calendar\n\n									\n	iCalendar\n\n									\n	Outlook 365\n\n									\n	Outlook Live\n\n							\n		\n\n		\n	\n\n				\n				\n					\n		\n				\n			\n							\n		\n				\n			\n							\n		\n					\n		\n				\n						\n					\n			\n						\n				\n					\n	\n	Venue			\n				\n	\n			\n		Hardwood Ski and Bike			\n	\n	\n	Address:\n	\n\n402 Old Barrie Rd W\n	\n		\n		Oro Station\,\n\n	ON\n\n	L0L 2E0\n\n	Canada\n\n\n\n\n	+ Google Map
URL:https://ontrail.ca/event/woody-race-series/
LOCATION:Woodnewton\, 4589 Concession 6\, Uxbridge\, ON\, L9P 1R4\, Canada
CATEGORIES:Mountainbike
ATTACH;FMTTYPE=image/png:https://ontrail.ca/wp-content/uploads/2025/04/woody-race-series.png
ORGANIZER;CN="Durham Shredders":MAILTO:Info@durhamshredders.com
END:VEVENT
END:VCALENDAR