BEGIN:VCALENDAR
VERSION:2.0
PRODID:-//https://ONtrail - ECPv6.15.20//NONSGML v1.0//EN
CALSCALE:GREGORIAN
METHOD:PUBLISH
X-WR-CALNAME:https://ONtrail
X-ORIGINAL-URL:https://ontrail.ca
X-WR-CALDESC:Events for https://ONtrail
REFRESH-INTERVAL;VALUE=DURATION:PT1H
X-Robots-Tag:noindex
X-PUBLISHED-TTL:PT1H
BEGIN:VTIMEZONE
TZID:America/Toronto
BEGIN:DAYLIGHT
TZOFFSETFROM:-0500
TZOFFSETTO:-0400
TZNAME:EDT
DTSTART:20250309T070000
END:DAYLIGHT
BEGIN:STANDARD
TZOFFSETFROM:-0400
TZOFFSETTO:-0500
TZNAME:EST
DTSTART:20251102T060000
END:STANDARD
BEGIN:DAYLIGHT
TZOFFSETFROM:-0500
TZOFFSETTO:-0400
TZNAME:EDT
DTSTART:20260308T070000
END:DAYLIGHT
BEGIN:STANDARD
TZOFFSETFROM:-0400
TZOFFSETTO:-0500
TZNAME:EST
DTSTART:20261101T060000
END:STANDARD
BEGIN:DAYLIGHT
TZOFFSETFROM:-0500
TZOFFSETTO:-0400
TZNAME:EDT
DTSTART:20270314T070000
END:DAYLIGHT
BEGIN:STANDARD
TZOFFSETFROM:-0400
TZOFFSETTO:-0500
TZNAME:EST
DTSTART:20271107T060000
END:STANDARD
END:VTIMEZONE
BEGIN:VEVENT
DTSTART;TZID=America/Toronto:20260516T100000
DTEND;TZID=America/Toronto:20260516T123000
DTSTAMP:20260421T094553
CREATED:20260421T001457Z
LAST-MODIFIED:20260421T001634Z
UID:10000728-1778925600-1778934600@ontrail.ca
SUMMARY:Minii Adventures Jump Class
DESCRIPTION:Our Jump Class is your launchpad to getting airborne with skill and control. Step by step\, you’ll learn how to jump safely and smoothly. From nailing your body position and timing to mastering clean takeoffs and controlled landings. \nWhat’s Included in Your Class: \n✓ Skills & Drills in a controlled environment\, followed by a trail ride to put your newly learned skills into real practice.\n✓ Learn from experienced and passionate instructors dedicated to helping you progress.\n✓ Small Group Sizes to ensure a safe\, effective\, personal learning experience.\n✓ Personalized Feedback\, post-class notes for future practice and continued progression & video analysis.\n✓ Complimentary drinks\, snacks and après. \nDate: May 16\, June 28 or July 18 \nTime: 10:00 am – 12:30 pm \nAvailable for: All experienced riders ages 19+ (intermediate\, advanced) \nInvestment: $199 + HST \nSee you in class!
URL:https://ontrail.ca/event/minii-adventures-jump-class/2026-05-16/
LOCATION:Trail Hub\, 722 Chalk Lake Rd\, Uxbridge\, ON\, Canada
CATEGORIES:jump,jump clinic,minii adventures,Mountainbike,Skill building,trail hub
END:VEVENT
BEGIN:VEVENT
DTSTART;TZID=America/Toronto:20260516T140000
DTEND;TZID=America/Toronto:20260516T163000
DTSTAMP:20260421T094553
CREATED:20260421T002746Z
LAST-MODIFIED:20260421T002746Z
UID:10000731-1778940000-1778949000@ontrail.ca
SUMMARY:Minii Adventures Drop Class
DESCRIPTION:Our Drops Class is your guide to tackling drops up to 4’ with control and precision. Step by step\, you’ll learn how to handle varying sizes and approaches safely and smoothly. From mastering roll-downs and body position to landing with confidence and flow. \nWhat’s Included in Your Class: \n✓ Skills & Drills in a controlled environment\, followed by a trail ride to put your newly learned skills into real practice.\n✓ Learn from experienced and passionate instructors dedicated to helping you progress.\n✓ Small Group Sizes to ensure a safe\, effective\, personal learning experience.\n✓ Personalized Feedback\, post-class notes for future practice and continued progression & video analysis.\n✓ Complimentary drinks\, snacks and après. \nDate: May 16\, June 28 or July 18 \nTime: 2:00 – 4:30 pm \nAvailable for: All experienced riders ages 19+ (intermediate\, advanced) \nInvestment: $199 + HST \nSee you in class!
URL:https://ontrail.ca/event/minii-adventures-drop-class/2026-05-16/
LOCATION:Trail Hub\, 722 Chalk Lake Rd\, Uxbridge\, ON\, Canada
CATEGORIES:drops,minii adventures,Mountainbike,Skill building,trail hub
END:VEVENT
BEGIN:VEVENT
DTSTART;TZID=America/Toronto:20260523T100000
DTEND;TZID=America/Toronto:20260523T160000
DTSTAMP:20260421T094553
CREATED:20260421T000304Z
LAST-MODIFIED:20260421T000438Z
UID:10000725-1779530400-1779552000@ontrail.ca
SUMMARY:Minii Adventures One-Day Mountain Bike Skills Class
DESCRIPTION:Designed for all levels\, this full-day format is a great way to sharpen your skills\, ride with intention\, and experience how professional coaching can elevate your time on the bike. \nWhat’s Included in Your Class \n✓ 2.5 hours – Morning Skills & Drills session learning from professional mountain bike instructors. \n✓ 2.5 hours – Afternoon Trail Ride to implement your newly learned skills from the morning. \n✓ Small Group Sizes to ensure an effective\, safe and personal learning experience. \n✓ Personalized Feedback & Video Analysis \n✓ Complimentary Après to celebrate a hard day’s work\, including a Q&A session with the coaches. \nDates: May 23\, June 7 or July 25 \nTime: 10:00 am – 4:00 pm \nAvailable for: All riders ages 19+ (beginner\, intermediate\, advanced) \nInvestment: $249 + HST \nSee you in class!
URL:https://ontrail.ca/event/adult-mountain-bike-skills-clinic/2026-05-23/
LOCATION:Trail Hub\, 722 Chalk Lake Rd\, Uxbridge\, ON\, Canada
CATEGORIES:minii adventures,Mountainbike,Skill building,trail hub
END:VEVENT
END:VCALENDAR