BEGIN:VCALENDAR
VERSION:2.0
PRODID:-//https://ONtrail - ECPv6.15.20//NONSGML v1.0//EN
CALSCALE:GREGORIAN
METHOD:PUBLISH
X-ORIGINAL-URL:https://ontrail.ca
X-WR-CALDESC:Events for https://ONtrail
REFRESH-INTERVAL;VALUE=DURATION:PT1H
X-Robots-Tag:noindex
X-PUBLISHED-TTL:PT1H
BEGIN:VTIMEZONE
TZID:America/Toronto
BEGIN:DAYLIGHT
TZOFFSETFROM:-0500
TZOFFSETTO:-0400
TZNAME:EDT
DTSTART:20250309T070000
END:DAYLIGHT
BEGIN:STANDARD
TZOFFSETFROM:-0400
TZOFFSETTO:-0500
TZNAME:EST
DTSTART:20251102T060000
END:STANDARD
BEGIN:DAYLIGHT
TZOFFSETFROM:-0500
TZOFFSETTO:-0400
TZNAME:EDT
DTSTART:20260308T070000
END:DAYLIGHT
BEGIN:STANDARD
TZOFFSETFROM:-0400
TZOFFSETTO:-0500
TZNAME:EST
DTSTART:20261101T060000
END:STANDARD
BEGIN:DAYLIGHT
TZOFFSETFROM:-0500
TZOFFSETTO:-0400
TZNAME:EDT
DTSTART:20270314T070000
END:DAYLIGHT
BEGIN:STANDARD
TZOFFSETFROM:-0400
TZOFFSETTO:-0500
TZNAME:EST
DTSTART:20271107T060000
END:STANDARD
END:VTIMEZONE
BEGIN:VEVENT
DTSTART;TZID=America/Toronto:20260506T190000
DTEND;TZID=America/Toronto:20260506T210000
DTSTAMP:20260421T141359
CREATED:20260419T181049Z
LAST-MODIFIED:20260419T181149Z
UID:10000724-1778094000-1778101200@ontrail.ca
SUMMARY:HBMBA Season Opener Social at Grain & Grit
DESCRIPTION:Come hang out with the HBMBA board at Grain & Grit on May 6 from 7 to 9 p.m. As a casual\, drop-in style event\, this is an opportunity to meet the board of directors\, mingle with other passionate mountain bikers\, and get excited about the season ahead. Hope to see you there!
URL:https://ontrail.ca/event/hbmba-season-opener-social-at-grain-grit/
LOCATION:Grain & Grit\, 11 Ewen Rd\, Hamilton\, ON\, Canada
CATEGORIES:Community,Community Event,Hamilton Burlington Mountain Biking Association,Social
END:VEVENT
BEGIN:VEVENT
DTSTART;TZID=America/Toronto:20260627T100000
DTEND;TZID=America/Toronto:20260627T123000
DTSTAMP:20260421T141359
CREATED:20260421T003500Z
LAST-MODIFIED:20260421T003500Z
UID:10000734-1782554400-1782563400@ontrail.ca
SUMMARY:Minii Adventures Ride Out at Jefferson Forest
DESCRIPTION:Explore Ontario’s Best Trail Systems & Connect with the MTB Community. \nOver the years\, we’ve recognized that there can be many barriers to exploring new trail systems and meeting other like-minded people to ride with. Minii Adventures’ Ride Out Series aims to introduce you to the many unique trail systems we have across Southern Ontario with ease\, while also helping you meet other like-minded people to ride with. \nDate: June 27 \nTime: 10:00 am – 12:30 pm \nLocation: Jefferson Forest (Richmond Hill) \nAvailable for: All experienced riders ages 19+ (novice\, intermediate\, advanced) \nInvestment: $30 + HST
URL:https://ontrail.ca/event/mtb-ride-out-jefferson-forest/
LOCATION:Jefferson Forest\, Richmond Hill
CATEGORIES:Community,Community Event,Group Ride,Jefferson Forest,minii adventures,Mountainbike,Ride,Social
END:VEVENT
BEGIN:VEVENT
DTSTART;TZID=America/Toronto:20260627T100000
DTEND;TZID=America/Toronto:20260627T123000
DTSTAMP:20260421T141359
CREATED:20260421T004718Z
LAST-MODIFIED:20260421T004718Z
UID:10000736-1782554400-1782563400@ontrail.ca
SUMMARY:Minii Adventures Ride Out at Millbrook
DESCRIPTION:Explore Ontario’s Best Trail Systems & Connect with the MTB Community. \nOver the years\, we’ve recognized that there can be many barriers to exploring new trail systems and meeting other like-minded people to ride with. Minii Adventures’ Ride Out Series aims to introduce you to the many unique trail systems we have across Southern Ontario with ease\, while also helping you meet other like-minded people to ride with. \nDate: June 27 \nTime: 10:00 am – 12:30 pm \nLocation: Millbrook Valley Trails (Millbrook) \nAvailable for: All experienced riders ages 19+ (novice\, intermediate\, advanced) \nInvestment: $30 + HST
URL:https://ontrail.ca/event/mtb-ride-out-millbrook-valley-trails/
LOCATION:Millbrook\, Millbrook\, ON\, Canada
CATEGORIES:Community,Community Event,Group Ride,Millbrook,minii adventures,Social
END:VEVENT
END:VCALENDAR