BEGIN:VCALENDAR
VERSION:2.0
PRODID:-//https://ONtrail - ECPv6.15.20//NONSGML v1.0//EN
CALSCALE:GREGORIAN
METHOD:PUBLISH
X-WR-CALNAME:https://ONtrail
X-ORIGINAL-URL:https://ontrail.ca
X-WR-CALDESC:Events for https://ONtrail
REFRESH-INTERVAL;VALUE=DURATION:PT1H
X-Robots-Tag:noindex
X-PUBLISHED-TTL:PT1H
BEGIN:VTIMEZONE
TZID:America/Toronto
BEGIN:DAYLIGHT
TZOFFSETFROM:-0500
TZOFFSETTO:-0400
TZNAME:EDT
DTSTART:20250309T070000
END:DAYLIGHT
BEGIN:STANDARD
TZOFFSETFROM:-0400
TZOFFSETTO:-0500
TZNAME:EST
DTSTART:20251102T060000
END:STANDARD
BEGIN:DAYLIGHT
TZOFFSETFROM:-0500
TZOFFSETTO:-0400
TZNAME:EDT
DTSTART:20260308T070000
END:DAYLIGHT
BEGIN:STANDARD
TZOFFSETFROM:-0400
TZOFFSETTO:-0500
TZNAME:EST
DTSTART:20261101T060000
END:STANDARD
BEGIN:DAYLIGHT
TZOFFSETFROM:-0500
TZOFFSETTO:-0400
TZNAME:EDT
DTSTART:20270314T070000
END:DAYLIGHT
BEGIN:STANDARD
TZOFFSETFROM:-0400
TZOFFSETTO:-0500
TZNAME:EST
DTSTART:20271107T060000
END:STANDARD
END:VTIMEZONE
BEGIN:VEVENT
DTSTART;VALUE=DATE:20260720
DTEND;VALUE=DATE:20260725
DTSTAMP:20260421T110326
CREATED:20260421T021406Z
LAST-MODIFIED:20260421T021406Z
UID:10000737-1784505600-1784937599@ontrail.ca
SUMMARY:Collingwood Collective Summer Mountain Bike Camp
DESCRIPTION:Our goal at the Collingwood Collective Mountain Bike summer camp is to have fun on our bikes while improving our mountain bike skills. \nEach week will have progressive lessons that will address the fundamentals of trail riding. Throughout the week we will focus on various skills needed for mountain biking. Coaches will use the skills parks\, single track trail features and on bike games to teach and practice these skills.
URL:https://ontrail.ca/event/collingwood-collective-mountain-bike-summer-camp/
LOCATION:Mansfield Outdoor Centre\, 937365 Airport Rd\, Mulmur\, ON\, L9V 3T6\, Canada
CATEGORIES:Collingwood Collective,Mansfield Outdoor Centre,MOC,Mountainbike,Skill building,youth
END:VEVENT
END:VCALENDAR