BEGIN:VCALENDAR
VERSION:2.0
PRODID:-//https://ONtrail - ECPv6.15.20//NONSGML v1.0//EN
CALSCALE:GREGORIAN
METHOD:PUBLISH
X-WR-CALNAME:https://ONtrail
X-ORIGINAL-URL:https://ontrail.ca
X-WR-CALDESC:Events for https://ONtrail
REFRESH-INTERVAL;VALUE=DURATION:PT1H
X-Robots-Tag:noindex
X-PUBLISHED-TTL:PT1H
BEGIN:VTIMEZONE
TZID:America/Toronto
BEGIN:DAYLIGHT
TZOFFSETFROM:-0500
TZOFFSETTO:-0400
TZNAME:EDT
DTSTART:20250309T070000
END:DAYLIGHT
BEGIN:STANDARD
TZOFFSETFROM:-0400
TZOFFSETTO:-0500
TZNAME:EST
DTSTART:20251102T060000
END:STANDARD
BEGIN:DAYLIGHT
TZOFFSETFROM:-0500
TZOFFSETTO:-0400
TZNAME:EDT
DTSTART:20260308T070000
END:DAYLIGHT
BEGIN:STANDARD
TZOFFSETFROM:-0400
TZOFFSETTO:-0500
TZNAME:EST
DTSTART:20261101T060000
END:STANDARD
BEGIN:DAYLIGHT
TZOFFSETFROM:-0500
TZOFFSETTO:-0400
TZNAME:EDT
DTSTART:20270314T070000
END:DAYLIGHT
BEGIN:STANDARD
TZOFFSETFROM:-0400
TZOFFSETTO:-0500
TZNAME:EST
DTSTART:20271107T060000
END:STANDARD
END:VTIMEZONE
BEGIN:VEVENT
DTSTART;TZID=America/Toronto:20260516T100000
DTEND;TZID=America/Toronto:20260516T123000
DTSTAMP:20260421T095131
CREATED:20260421T001457Z
LAST-MODIFIED:20260421T001634Z
UID:10000728-1778925600-1778934600@ontrail.ca
SUMMARY:Minii Adventures Jump Class
DESCRIPTION:Our Jump Class is your launchpad to getting airborne with skill and control. Step by step\, you’ll learn how to jump safely and smoothly. From nailing your body position and timing to mastering clean takeoffs and controlled landings. \nWhat’s Included in Your Class: \n✓ Skills & Drills in a controlled environment\, followed by a trail ride to put your newly learned skills into real practice.\n✓ Learn from experienced and passionate instructors dedicated to helping you progress.\n✓ Small Group Sizes to ensure a safe\, effective\, personal learning experience.\n✓ Personalized Feedback\, post-class notes for future practice and continued progression & video analysis.\n✓ Complimentary drinks\, snacks and après. \nDate: May 16\, June 28 or July 18 \nTime: 10:00 am – 12:30 pm \nAvailable for: All experienced riders ages 19+ (intermediate\, advanced) \nInvestment: $199 + HST \nSee you in class!
URL:https://ontrail.ca/event/minii-adventures-jump-class/2026-05-16/
LOCATION:Trail Hub\, 722 Chalk Lake Rd\, Uxbridge\, ON\, Canada
CATEGORIES:jump,jump clinic,minii adventures,Mountainbike,Skill building,trail hub
END:VEVENT
BEGIN:VEVENT
DTSTART;TZID=America/Toronto:20260516T140000
DTEND;TZID=America/Toronto:20260516T163000
DTSTAMP:20260421T095131
CREATED:20260421T002746Z
LAST-MODIFIED:20260421T002746Z
UID:10000731-1778940000-1778949000@ontrail.ca
SUMMARY:Minii Adventures Drop Class
DESCRIPTION:Our Drops Class is your guide to tackling drops up to 4’ with control and precision. Step by step\, you’ll learn how to handle varying sizes and approaches safely and smoothly. From mastering roll-downs and body position to landing with confidence and flow. \nWhat’s Included in Your Class: \n✓ Skills & Drills in a controlled environment\, followed by a trail ride to put your newly learned skills into real practice.\n✓ Learn from experienced and passionate instructors dedicated to helping you progress.\n✓ Small Group Sizes to ensure a safe\, effective\, personal learning experience.\n✓ Personalized Feedback\, post-class notes for future practice and continued progression & video analysis.\n✓ Complimentary drinks\, snacks and après. \nDate: May 16\, June 28 or July 18 \nTime: 2:00 – 4:30 pm \nAvailable for: All experienced riders ages 19+ (intermediate\, advanced) \nInvestment: $199 + HST \nSee you in class!
URL:https://ontrail.ca/event/minii-adventures-drop-class/2026-05-16/
LOCATION:Trail Hub\, 722 Chalk Lake Rd\, Uxbridge\, ON\, Canada
CATEGORIES:drops,minii adventures,Mountainbike,Skill building,trail hub
END:VEVENT
BEGIN:VEVENT
DTSTART;TZID=America/Toronto:20260523T100000
DTEND;TZID=America/Toronto:20260523T160000
DTSTAMP:20260421T095131
CREATED:20260421T000304Z
LAST-MODIFIED:20260421T000438Z
UID:10000725-1779530400-1779552000@ontrail.ca
SUMMARY:Minii Adventures One-Day Mountain Bike Skills Class
DESCRIPTION:Designed for all levels\, this full-day format is a great way to sharpen your skills\, ride with intention\, and experience how professional coaching can elevate your time on the bike. \nWhat’s Included in Your Class \n✓ 2.5 hours – Morning Skills & Drills session learning from professional mountain bike instructors. \n✓ 2.5 hours – Afternoon Trail Ride to implement your newly learned skills from the morning. \n✓ Small Group Sizes to ensure an effective\, safe and personal learning experience. \n✓ Personalized Feedback & Video Analysis \n✓ Complimentary Après to celebrate a hard day’s work\, including a Q&A session with the coaches. \nDates: May 23\, June 7 or July 25 \nTime: 10:00 am – 4:00 pm \nAvailable for: All riders ages 19+ (beginner\, intermediate\, advanced) \nInvestment: $249 + HST \nSee you in class!
URL:https://ontrail.ca/event/adult-mountain-bike-skills-clinic/2026-05-23/
LOCATION:Trail Hub\, 722 Chalk Lake Rd\, Uxbridge\, ON\, Canada
CATEGORIES:minii adventures,Mountainbike,Skill building,trail hub
END:VEVENT
BEGIN:VEVENT
DTSTART;TZID=America/Toronto:20260607T100000
DTEND;TZID=America/Toronto:20260607T160000
DTSTAMP:20260421T095131
CREATED:20260421T000304Z
LAST-MODIFIED:20260421T000438Z
UID:10000726-1780826400-1780848000@ontrail.ca
SUMMARY:Minii Adventures One-Day Mountain Bike Skills Class
DESCRIPTION:Designed for all levels\, this full-day format is a great way to sharpen your skills\, ride with intention\, and experience how professional coaching can elevate your time on the bike. \nWhat’s Included in Your Class \n✓ 2.5 hours – Morning Skills & Drills session learning from professional mountain bike instructors. \n✓ 2.5 hours – Afternoon Trail Ride to implement your newly learned skills from the morning. \n✓ Small Group Sizes to ensure an effective\, safe and personal learning experience. \n✓ Personalized Feedback & Video Analysis \n✓ Complimentary Après to celebrate a hard day’s work\, including a Q&A session with the coaches. \nDates: May 23\, June 7 or July 25 \nTime: 10:00 am – 4:00 pm \nAvailable for: All riders ages 19+ (beginner\, intermediate\, advanced) \nInvestment: $249 + HST \nSee you in class!
URL:https://ontrail.ca/event/adult-mountain-bike-skills-clinic/2026-06-07/
LOCATION:Trail Hub\, 722 Chalk Lake Rd\, Uxbridge\, ON\, Canada
CATEGORIES:minii adventures,Mountainbike,Skill building,trail hub
END:VEVENT
BEGIN:VEVENT
DTSTART;TZID=America/Toronto:20260627T100000
DTEND;TZID=America/Toronto:20260627T123000
DTSTAMP:20260421T095131
CREATED:20260421T003500Z
LAST-MODIFIED:20260421T003500Z
UID:10000734-1782554400-1782563400@ontrail.ca
SUMMARY:Minii Adventures Ride Out at Jefferson Forest
DESCRIPTION:Explore Ontario’s Best Trail Systems & Connect with the MTB Community. \nOver the years\, we’ve recognized that there can be many barriers to exploring new trail systems and meeting other like-minded people to ride with. Minii Adventures’ Ride Out Series aims to introduce you to the many unique trail systems we have across Southern Ontario with ease\, while also helping you meet other like-minded people to ride with. \nDate: June 27 \nTime: 10:00 am – 12:30 pm \nLocation: Jefferson Forest (Richmond Hill) \nAvailable for: All experienced riders ages 19+ (novice\, intermediate\, advanced) \nInvestment: $30 + HST
URL:https://ontrail.ca/event/mtb-ride-out-jefferson-forest/
LOCATION:Jefferson Forest\, Richmond Hill
CATEGORIES:Community,Community Event,Group Ride,Jefferson Forest,minii adventures,Mountainbike,Ride,Social
END:VEVENT
BEGIN:VEVENT
DTSTART;TZID=America/Toronto:20260627T100000
DTEND;TZID=America/Toronto:20260627T123000
DTSTAMP:20260421T095131
CREATED:20260421T004718Z
LAST-MODIFIED:20260421T004718Z
UID:10000736-1782554400-1782563400@ontrail.ca
SUMMARY:Minii Adventures Ride Out at Millbrook
DESCRIPTION:Explore Ontario’s Best Trail Systems & Connect with the MTB Community. \nOver the years\, we’ve recognized that there can be many barriers to exploring new trail systems and meeting other like-minded people to ride with. Minii Adventures’ Ride Out Series aims to introduce you to the many unique trail systems we have across Southern Ontario with ease\, while also helping you meet other like-minded people to ride with. \nDate: June 27 \nTime: 10:00 am – 12:30 pm \nLocation: Millbrook Valley Trails (Millbrook) \nAvailable for: All experienced riders ages 19+ (novice\, intermediate\, advanced) \nInvestment: $30 + HST
URL:https://ontrail.ca/event/mtb-ride-out-millbrook-valley-trails/
LOCATION:Millbrook\, Millbrook\, ON\, Canada
CATEGORIES:Community,Community Event,Group Ride,Millbrook,minii adventures,Social
END:VEVENT
BEGIN:VEVENT
DTSTART;TZID=America/Toronto:20260628T100000
DTEND;TZID=America/Toronto:20260628T123000
DTSTAMP:20260421T095131
CREATED:20260421T001457Z
LAST-MODIFIED:20260421T001634Z
UID:10000729-1782640800-1782649800@ontrail.ca
SUMMARY:Minii Adventures Jump Class
DESCRIPTION:Our Jump Class is your launchpad to getting airborne with skill and control. Step by step\, you’ll learn how to jump safely and smoothly. From nailing your body position and timing to mastering clean takeoffs and controlled landings. \nWhat’s Included in Your Class: \n✓ Skills & Drills in a controlled environment\, followed by a trail ride to put your newly learned skills into real practice.\n✓ Learn from experienced and passionate instructors dedicated to helping you progress.\n✓ Small Group Sizes to ensure a safe\, effective\, personal learning experience.\n✓ Personalized Feedback\, post-class notes for future practice and continued progression & video analysis.\n✓ Complimentary drinks\, snacks and après. \nDate: May 16\, June 28 or July 18 \nTime: 10:00 am – 12:30 pm \nAvailable for: All experienced riders ages 19+ (intermediate\, advanced) \nInvestment: $199 + HST \nSee you in class!
URL:https://ontrail.ca/event/minii-adventures-jump-class/2026-06-28/
LOCATION:Trail Hub\, 722 Chalk Lake Rd\, Uxbridge\, ON\, Canada
CATEGORIES:jump,jump clinic,minii adventures,Mountainbike,Skill building,trail hub
END:VEVENT
BEGIN:VEVENT
DTSTART;TZID=America/Toronto:20260628T140000
DTEND;TZID=America/Toronto:20260628T163000
DTSTAMP:20260421T095131
CREATED:20260421T002746Z
LAST-MODIFIED:20260421T002746Z
UID:10000732-1782655200-1782664200@ontrail.ca
SUMMARY:Minii Adventures Drop Class
DESCRIPTION:Our Drops Class is your guide to tackling drops up to 4’ with control and precision. Step by step\, you’ll learn how to handle varying sizes and approaches safely and smoothly. From mastering roll-downs and body position to landing with confidence and flow. \nWhat’s Included in Your Class: \n✓ Skills & Drills in a controlled environment\, followed by a trail ride to put your newly learned skills into real practice.\n✓ Learn from experienced and passionate instructors dedicated to helping you progress.\n✓ Small Group Sizes to ensure a safe\, effective\, personal learning experience.\n✓ Personalized Feedback\, post-class notes for future practice and continued progression & video analysis.\n✓ Complimentary drinks\, snacks and après. \nDate: May 16\, June 28 or July 18 \nTime: 2:00 – 4:30 pm \nAvailable for: All experienced riders ages 19+ (intermediate\, advanced) \nInvestment: $199 + HST \nSee you in class!
URL:https://ontrail.ca/event/minii-adventures-drop-class/2026-06-28/
LOCATION:Trail Hub\, 722 Chalk Lake Rd\, Uxbridge\, ON\, Canada
CATEGORIES:drops,minii adventures,Mountainbike,Skill building,trail hub
END:VEVENT
BEGIN:VEVENT
DTSTART;TZID=America/Toronto:20260718T100000
DTEND;TZID=America/Toronto:20260718T123000
DTSTAMP:20260421T095131
CREATED:20260421T001457Z
LAST-MODIFIED:20260421T001634Z
UID:10000730-1784368800-1784377800@ontrail.ca
SUMMARY:Minii Adventures Jump Class
DESCRIPTION:Our Jump Class is your launchpad to getting airborne with skill and control. Step by step\, you’ll learn how to jump safely and smoothly. From nailing your body position and timing to mastering clean takeoffs and controlled landings. \nWhat’s Included in Your Class: \n✓ Skills & Drills in a controlled environment\, followed by a trail ride to put your newly learned skills into real practice.\n✓ Learn from experienced and passionate instructors dedicated to helping you progress.\n✓ Small Group Sizes to ensure a safe\, effective\, personal learning experience.\n✓ Personalized Feedback\, post-class notes for future practice and continued progression & video analysis.\n✓ Complimentary drinks\, snacks and après. \nDate: May 16\, June 28 or July 18 \nTime: 10:00 am – 12:30 pm \nAvailable for: All experienced riders ages 19+ (intermediate\, advanced) \nInvestment: $199 + HST \nSee you in class!
URL:https://ontrail.ca/event/minii-adventures-jump-class/2026-07-18/
LOCATION:Trail Hub\, 722 Chalk Lake Rd\, Uxbridge\, ON\, Canada
CATEGORIES:jump,jump clinic,minii adventures,Mountainbike,Skill building,trail hub
END:VEVENT
BEGIN:VEVENT
DTSTART;TZID=America/Toronto:20260718T140000
DTEND;TZID=America/Toronto:20260718T163000
DTSTAMP:20260421T095131
CREATED:20260421T002746Z
LAST-MODIFIED:20260421T002746Z
UID:10000733-1784383200-1784392200@ontrail.ca
SUMMARY:Minii Adventures Drop Class
DESCRIPTION:Our Drops Class is your guide to tackling drops up to 4’ with control and precision. Step by step\, you’ll learn how to handle varying sizes and approaches safely and smoothly. From mastering roll-downs and body position to landing with confidence and flow. \nWhat’s Included in Your Class: \n✓ Skills & Drills in a controlled environment\, followed by a trail ride to put your newly learned skills into real practice.\n✓ Learn from experienced and passionate instructors dedicated to helping you progress.\n✓ Small Group Sizes to ensure a safe\, effective\, personal learning experience.\n✓ Personalized Feedback\, post-class notes for future practice and continued progression & video analysis.\n✓ Complimentary drinks\, snacks and après. \nDate: May 16\, June 28 or July 18 \nTime: 2:00 – 4:30 pm \nAvailable for: All experienced riders ages 19+ (intermediate\, advanced) \nInvestment: $199 + HST \nSee you in class!
URL:https://ontrail.ca/event/minii-adventures-drop-class/2026-07-18/
LOCATION:Trail Hub\, 722 Chalk Lake Rd\, Uxbridge\, ON\, Canada
CATEGORIES:drops,minii adventures,Mountainbike,Skill building,trail hub
END:VEVENT
BEGIN:VEVENT
DTSTART;TZID=America/Toronto:20260725T100000
DTEND;TZID=America/Toronto:20260725T160000
DTSTAMP:20260421T095131
CREATED:20260421T000304Z
LAST-MODIFIED:20260421T000438Z
UID:10000727-1784973600-1784995200@ontrail.ca
SUMMARY:Minii Adventures One-Day Mountain Bike Skills Class
DESCRIPTION:Designed for all levels\, this full-day format is a great way to sharpen your skills\, ride with intention\, and experience how professional coaching can elevate your time on the bike. \nWhat’s Included in Your Class \n✓ 2.5 hours – Morning Skills & Drills session learning from professional mountain bike instructors. \n✓ 2.5 hours – Afternoon Trail Ride to implement your newly learned skills from the morning. \n✓ Small Group Sizes to ensure an effective\, safe and personal learning experience. \n✓ Personalized Feedback & Video Analysis \n✓ Complimentary Après to celebrate a hard day’s work\, including a Q&A session with the coaches. \nDates: May 23\, June 7 or July 25 \nTime: 10:00 am – 4:00 pm \nAvailable for: All riders ages 19+ (beginner\, intermediate\, advanced) \nInvestment: $249 + HST \nSee you in class!
URL:https://ontrail.ca/event/adult-mountain-bike-skills-clinic/2026-07-25/
LOCATION:Trail Hub\, 722 Chalk Lake Rd\, Uxbridge\, ON\, Canada
CATEGORIES:minii adventures,Mountainbike,Skill building,trail hub
END:VEVENT
BEGIN:VEVENT
DTSTART;TZID=America/Toronto:20261017T170000
DTEND;TZID=America/Toronto:20261017T193000
DTSTAMP:20260421T095131
CREATED:20260421T004021Z
LAST-MODIFIED:20260421T004021Z
UID:10000735-1792256400-1792265400@ontrail.ca
SUMMARY:Halloween Night Ride Out at Trail Hub
DESCRIPTION:Join us for a spook-tacular and fun evening in costumes\, on bikes\, in the dark. \nNo night-riding experience is necessary. \nRiding lights and Halloween Costumes are mandatory. \nDate: October 17 \nTime: 5:00 – 7:30 pm \nLocation: Trail Hub (Uxbridge) \nAvailable for: All experienced riders ages 19+ (novice\, intermediate\, advanced) \nInvestment: $30 + HST
URL:https://ontrail.ca/event/halloween-night-ride-out-at-trail-hub/
LOCATION:Trail Hub\, 722 Chalk Lake Rd\, Uxbridge\, ON\, Canada
CATEGORIES:Community,Community Event,minii adventures,Mountainbike,Ride,trail hub
END:VEVENT
END:VCALENDAR