BEGIN:VCALENDAR
VERSION:2.0
PRODID:-//https://ONtrail - ECPv6.15.20//NONSGML v1.0//EN
CALSCALE:GREGORIAN
METHOD:PUBLISH
X-WR-CALNAME:https://ONtrail
X-ORIGINAL-URL:https://ontrail.ca
X-WR-CALDESC:Events for https://ONtrail
REFRESH-INTERVAL;VALUE=DURATION:PT1H
X-Robots-Tag:noindex
X-PUBLISHED-TTL:PT1H
BEGIN:VTIMEZONE
TZID:America/Toronto
BEGIN:DAYLIGHT
TZOFFSETFROM:-0500
TZOFFSETTO:-0400
TZNAME:EDT
DTSTART:20250309T070000
END:DAYLIGHT
BEGIN:STANDARD
TZOFFSETFROM:-0400
TZOFFSETTO:-0500
TZNAME:EST
DTSTART:20251102T060000
END:STANDARD
BEGIN:DAYLIGHT
TZOFFSETFROM:-0500
TZOFFSETTO:-0400
TZNAME:EDT
DTSTART:20260308T070000
END:DAYLIGHT
BEGIN:STANDARD
TZOFFSETFROM:-0400
TZOFFSETTO:-0500
TZNAME:EST
DTSTART:20261101T060000
END:STANDARD
BEGIN:DAYLIGHT
TZOFFSETFROM:-0500
TZOFFSETTO:-0400
TZNAME:EDT
DTSTART:20270314T070000
END:DAYLIGHT
BEGIN:STANDARD
TZOFFSETFROM:-0400
TZOFFSETTO:-0500
TZNAME:EST
DTSTART:20271107T060000
END:STANDARD
END:VTIMEZONE
BEGIN:VEVENT
DTSTART;TZID=America/Toronto:20260524T100000
DTEND;TZID=America/Toronto:20260524T160000
DTSTAMP:20260419T121154
CREATED:20260418T231101Z
LAST-MODIFIED:20260418T231101Z
UID:10000723-1779616800-1779638400@ontrail.ca
SUMMARY:CORC 2026 Spring Bike Bazaar!
DESCRIPTION:Get ready\, Georgian Bay! On Sunday\, May 24th\, CORC is taking over Highlands Nordic for the ultimate mountain bike season opener! \n​The Highlight: For one day only\, we’re opening the gates to the private Highlands Nordic trail system for a flat $20 fee. If you’ve been waiting to scout these trails\, this is your golden ticket! \nPlus\, we’re officially debuting our brand new Adaptive (green) Trail\, making this a “rain or shine” event. \n​The Vibe: Shop & Swap – Massive Bike Swap (powered by Little Ed’s) + our DIY Gear Zone. \n​The Fuel: Grab a legendary handheld from Strake Sandwich Co. and a cold one from our local Brewery Sponsors. \n​The Perks: Explore the Community Partner Zone and enter to win tons of massive prizes. \n​Who’s Invited? Everyone. Seasoned locals\, neighbouring clubs (SCMBC/MORCA)\, and trail-curious newcomers. \nPRE-REGISTER NOW!!
URL:https://ontrail.ca/event/highlands-nordic-mtb-season-opener/
LOCATION:Highlands Nordic\, 1182 Nottawasaga Rd.\, Concession 10 N.\, Nottawasaga Rd S.\, Duntroon\, ON\, Canada
CATEGORIES:Community,Community Event,CORC,Family,Group Ride,Highlands Nordic,Mountainbike
END:VEVENT
END:VCALENDAR